BEGIN:VCALENDAR
VERSION:2.0
PRODID:-//Cincinnati Classical Academy - ECPv6.15.12.2//NONSGML v1.0//EN
CALSCALE:GREGORIAN
METHOD:PUBLISH
X-ORIGINAL-URL:https://www.cincyclassical.org
X-WR-CALDESC:Events for Cincinnati Classical Academy
REFRESH-INTERVAL;VALUE=DURATION:PT1H
X-Robots-Tag:noindex
X-PUBLISHED-TTL:PT1H
BEGIN:VTIMEZONE
TZID:America/New_York
BEGIN:DAYLIGHT
TZOFFSETFROM:-0500
TZOFFSETTO:-0400
TZNAME:EDT
DTSTART:20220313T070000
END:DAYLIGHT
BEGIN:STANDARD
TZOFFSETFROM:-0400
TZOFFSETTO:-0500
TZNAME:EST
DTSTART:20221106T060000
END:STANDARD
BEGIN:DAYLIGHT
TZOFFSETFROM:-0500
TZOFFSETTO:-0400
TZNAME:EDT
DTSTART:20230312T070000
END:DAYLIGHT
BEGIN:STANDARD
TZOFFSETFROM:-0400
TZOFFSETTO:-0500
TZNAME:EST
DTSTART:20231105T060000
END:STANDARD
BEGIN:DAYLIGHT
TZOFFSETFROM:-0500
TZOFFSETTO:-0400
TZNAME:EDT
DTSTART:20240310T070000
END:DAYLIGHT
BEGIN:STANDARD
TZOFFSETFROM:-0400
TZOFFSETTO:-0500
TZNAME:EST
DTSTART:20241103T060000
END:STANDARD
END:VTIMEZONE
BEGIN:VEVENT
DTSTART;TZID=America/New_York:20231007T100000
DTEND;TZID=America/New_York:20231007T130000
DTSTAMP:20260425T100415
CREATED:20230925T181738Z
LAST-MODIFIED:20230925T181738Z
UID:15571-1696672800-1696683600@www.cincyclassical.org
SUMMARY:Cross Country Meet
DESCRIPTION:Milford Invitational \nValley View
URL:https://www.cincyclassical.org/event/cross-country-meet-4/
LOCATION:Valley View\, 790 Garfield Ave\,\, Milford\, OH\, 45150\, United States
ATTACH;FMTTYPE=image/jpeg:https://www.cincyclassical.org/wp-content/uploads/2022/09/B781F95B-ED5F-426E-8FF3-8DDE1ADAAF9A.jpg
ORGANIZER;CN="Cincy Classical":MAILTO:front.office@cincyclassical.org
END:VEVENT
END:VCALENDAR