BEGIN:VCALENDAR
VERSION:2.0
PRODID:-//Cincinnati Classical Academy - ECPv6.15.12.2//NONSGML v1.0//EN
CALSCALE:GREGORIAN
METHOD:PUBLISH
X-ORIGINAL-URL:https://www.cincyclassical.org
X-WR-CALDESC:Events for Cincinnati Classical Academy
REFRESH-INTERVAL;VALUE=DURATION:PT1H
X-Robots-Tag:noindex
X-PUBLISHED-TTL:PT1H
BEGIN:VTIMEZONE
TZID:America/New_York
BEGIN:DAYLIGHT
TZOFFSETFROM:-0500
TZOFFSETTO:-0400
TZNAME:EDT
DTSTART:20210314T070000
END:DAYLIGHT
BEGIN:STANDARD
TZOFFSETFROM:-0400
TZOFFSETTO:-0500
TZNAME:EST
DTSTART:20211107T060000
END:STANDARD
BEGIN:DAYLIGHT
TZOFFSETFROM:-0500
TZOFFSETTO:-0400
TZNAME:EDT
DTSTART:20220313T070000
END:DAYLIGHT
BEGIN:STANDARD
TZOFFSETFROM:-0400
TZOFFSETTO:-0500
TZNAME:EST
DTSTART:20221106T060000
END:STANDARD
BEGIN:DAYLIGHT
TZOFFSETFROM:-0500
TZOFFSETTO:-0400
TZNAME:EDT
DTSTART:20230312T070000
END:DAYLIGHT
BEGIN:STANDARD
TZOFFSETFROM:-0400
TZOFFSETTO:-0500
TZNAME:EST
DTSTART:20231105T060000
END:STANDARD
END:VTIMEZONE
BEGIN:VEVENT
DTSTART;TZID=America/New_York:20221008T090000
DTEND;TZID=America/New_York:20221008T100000
DTSTAMP:20260422T141619
CREATED:20220822T160719Z
LAST-MODIFIED:20221005T130813Z
UID:8442-1665219600-1665223200@www.cincyclassical.org
SUMMARY:Volleyball Game 3rd Grade: CLASSICAL vs Sycamore
DESCRIPTION:Girl’s Volleyball Game \nLocation: Sycamore Jr High \nTeam: 3rd Grade- Classical
URL:https://www.cincyclassical.org/event/volleyball-game-3rd-grade-classical-vs-sycamore/
LOCATION:Sycamore\, 5757 Cooper Rd\, Cincinnati\, OH\, 45242\, United States
CATEGORIES:Athletics
ATTACH;FMTTYPE=image/jpeg:https://www.cincyclassical.org/wp-content/uploads/2022/10/Volleyball-cc.jpeg
ORGANIZER;CN="Cincy Classical":MAILTO:front.office@cincyclassical.org
END:VEVENT
END:VCALENDAR