BEGIN:VCALENDAR
VERSION:2.0
PRODID:-//Cincinnati Classical Academy - ECPv6.15.12.2//NONSGML v1.0//EN
CALSCALE:GREGORIAN
METHOD:PUBLISH
X-ORIGINAL-URL:https://www.cincyclassical.org
X-WR-CALDESC:Events for Cincinnati Classical Academy
REFRESH-INTERVAL;VALUE=DURATION:PT1H
X-Robots-Tag:noindex
X-PUBLISHED-TTL:PT1H
BEGIN:VTIMEZONE
TZID:America/New_York
BEGIN:DAYLIGHT
TZOFFSETFROM:-0500
TZOFFSETTO:-0400
TZNAME:EDT
DTSTART:20210314T070000
END:DAYLIGHT
BEGIN:STANDARD
TZOFFSETFROM:-0400
TZOFFSETTO:-0500
TZNAME:EST
DTSTART:20211107T060000
END:STANDARD
BEGIN:DAYLIGHT
TZOFFSETFROM:-0500
TZOFFSETTO:-0400
TZNAME:EDT
DTSTART:20220313T070000
END:DAYLIGHT
BEGIN:STANDARD
TZOFFSETFROM:-0400
TZOFFSETTO:-0500
TZNAME:EST
DTSTART:20221106T060000
END:STANDARD
BEGIN:DAYLIGHT
TZOFFSETFROM:-0500
TZOFFSETTO:-0400
TZNAME:EDT
DTSTART:20230312T070000
END:DAYLIGHT
BEGIN:STANDARD
TZOFFSETFROM:-0400
TZOFFSETTO:-0500
TZNAME:EST
DTSTART:20231105T060000
END:STANDARD
END:VTIMEZONE
BEGIN:VEVENT
DTSTART;TZID=America/New_York:20221113T160000
DTEND;TZID=America/New_York:20221113T170000
DTSTAMP:20260423T045121
CREATED:20221112T043909Z
LAST-MODIFIED:20221112T043909Z
UID:10688-1668355200-1668358800@www.cincyclassical.org
SUMMARY:Basketball Game 3rd / 4th Grade: CLASSICAL vs NEW RICHMOND
DESCRIPTION:Boy’s Basketball Game \nLocation: Haffey Fieldhouse \nTeam: 3rd / 4th Grade – Classical – Eves
URL:https://www.cincyclassical.org/event/basketball-game-3rd-4th-grade-classical-vs-new-richmond/
LOCATION:Haffey Fieldhouse\, 1599 West St\, Cincinnati\, OH\, 45215\, United States
CATEGORIES:Athletics,Extra-Curricular
ATTACH;FMTTYPE=image/jpeg:https://www.cincyclassical.org/wp-content/uploads/2022/10/Basketball-cc.jpeg
ORGANIZER;CN="Cincy Classical":MAILTO:front.office@cincyclassical.org
END:VEVENT
BEGIN:VEVENT
DTSTART;TZID=America/New_York:20221112T130000
DTEND;TZID=America/New_York:20221112T140000
DTSTAMP:20260423T045121
CREATED:20221112T043117Z
LAST-MODIFIED:20221112T043117Z
UID:10683-1668258000-1668261600@www.cincyclassical.org
SUMMARY:Basketball Game 3rd / 4th Grade: CLASSICAL vs KINGS
DESCRIPTION:Boy’s Basketball Game \nLocation: Haffey Fieldhouse \nTeam: 3rd / 4th Grade – Classical – Eves
URL:https://www.cincyclassical.org/event/basketball-game-3rd-4th-grade-classical-vs-kings/
LOCATION:Haffey Fieldhouse\, 1599 West St\, Cincinnati\, OH\, 45215\, United States
CATEGORIES:Athletics,Extra-Curricular
ATTACH;FMTTYPE=image/jpeg:https://www.cincyclassical.org/wp-content/uploads/2022/10/Basketball-cc.jpeg
ORGANIZER;CN="Cincy Classical":MAILTO:front.office@cincyclassical.org
END:VEVENT
END:VCALENDAR