BEGIN:VCALENDAR
VERSION:2.0
PRODID:-//Cincinnati Classical Academy - ECPv6.15.12.2//NONSGML v1.0//EN
CALSCALE:GREGORIAN
METHOD:PUBLISH
X-ORIGINAL-URL:https://www.cincyclassical.org
X-WR-CALDESC:Events for Cincinnati Classical Academy
REFRESH-INTERVAL;VALUE=DURATION:PT1H
X-Robots-Tag:noindex
X-PUBLISHED-TTL:PT1H
BEGIN:VTIMEZONE
TZID:America/New_York
BEGIN:DAYLIGHT
TZOFFSETFROM:-0500
TZOFFSETTO:-0400
TZNAME:EDT
DTSTART:20220313T070000
END:DAYLIGHT
BEGIN:STANDARD
TZOFFSETFROM:-0400
TZOFFSETTO:-0500
TZNAME:EST
DTSTART:20221106T060000
END:STANDARD
BEGIN:DAYLIGHT
TZOFFSETFROM:-0500
TZOFFSETTO:-0400
TZNAME:EDT
DTSTART:20230312T070000
END:DAYLIGHT
BEGIN:STANDARD
TZOFFSETFROM:-0400
TZOFFSETTO:-0500
TZNAME:EST
DTSTART:20231105T060000
END:STANDARD
BEGIN:DAYLIGHT
TZOFFSETFROM:-0500
TZOFFSETTO:-0400
TZNAME:EDT
DTSTART:20240310T070000
END:DAYLIGHT
BEGIN:STANDARD
TZOFFSETFROM:-0400
TZOFFSETTO:-0500
TZNAME:EST
DTSTART:20241103T060000
END:STANDARD
BEGIN:DAYLIGHT
TZOFFSETFROM:-0500
TZOFFSETTO:-0400
TZNAME:EDT
DTSTART:20250309T070000
END:DAYLIGHT
BEGIN:STANDARD
TZOFFSETFROM:-0400
TZOFFSETTO:-0500
TZNAME:EST
DTSTART:20251102T060000
END:STANDARD
END:VTIMEZONE
BEGIN:VEVENT
DTSTART;TZID=America/New_York:20240530T070500
DTEND;TZID=America/New_York:20240530T080000
DTSTAMP:20260424T181331
CREATED:20230921T183434Z
LAST-MODIFIED:20230921T183434Z
UID:16529-1717052700-1717056000@www.cincyclassical.org
SUMMARY:Brass Band Practice
DESCRIPTION:4th-7th Grades \nJames Yost
URL:https://www.cincyclassical.org/event/brass-band-practice/2024-05-30/
LOCATION:Cincy Classical\, 170 Siebenthaler Ave.\, Cincinnati\, OH\, 45215
ATTACH;FMTTYPE=image/jpeg:https://www.cincyclassical.org/wp-content/uploads/2023/09/brass-musical-instrument-2022-11-08-08-46-10-utc-scaled.jpg
ORGANIZER;CN="Cincy Classical":MAILTO:front.office@cincyclassical.org
END:VEVENT
BEGIN:VEVENT
DTSTART;TZID=America/New_York:20240528T070500
DTEND;TZID=America/New_York:20240528T080000
DTSTAMP:20260424T181331
CREATED:20230921T183434Z
LAST-MODIFIED:20230921T183434Z
UID:16528-1716879900-1716883200@www.cincyclassical.org
SUMMARY:Brass Band Practice
DESCRIPTION:4th-7th Grades \nJames Yost
URL:https://www.cincyclassical.org/event/brass-band-practice/2024-05-28/
LOCATION:Cincy Classical\, 170 Siebenthaler Ave.\, Cincinnati\, OH\, 45215
ATTACH;FMTTYPE=image/jpeg:https://www.cincyclassical.org/wp-content/uploads/2023/09/brass-musical-instrument-2022-11-08-08-46-10-utc-scaled.jpg
ORGANIZER;CN="Cincy Classical":MAILTO:front.office@cincyclassical.org
END:VEVENT
BEGIN:VEVENT
DTSTART;TZID=America/New_York:20240523T070500
DTEND;TZID=America/New_York:20240523T080000
DTSTAMP:20260424T181331
CREATED:20230921T183434Z
LAST-MODIFIED:20230921T183434Z
UID:16527-1716447900-1716451200@www.cincyclassical.org
SUMMARY:Brass Band Practice
DESCRIPTION:4th-7th Grades \nJames Yost
URL:https://www.cincyclassical.org/event/brass-band-practice/2024-05-23/
LOCATION:Cincy Classical\, 170 Siebenthaler Ave.\, Cincinnati\, OH\, 45215
ATTACH;FMTTYPE=image/jpeg:https://www.cincyclassical.org/wp-content/uploads/2023/09/brass-musical-instrument-2022-11-08-08-46-10-utc-scaled.jpg
ORGANIZER;CN="Cincy Classical":MAILTO:front.office@cincyclassical.org
END:VEVENT
BEGIN:VEVENT
DTSTART;TZID=America/New_York:20240521T070500
DTEND;TZID=America/New_York:20240521T080000
DTSTAMP:20260424T181331
CREATED:20230921T183434Z
LAST-MODIFIED:20230921T183434Z
UID:16526-1716275100-1716278400@www.cincyclassical.org
SUMMARY:Brass Band Practice
DESCRIPTION:4th-7th Grades \nJames Yost
URL:https://www.cincyclassical.org/event/brass-band-practice/2024-05-21/
LOCATION:Cincy Classical\, 170 Siebenthaler Ave.\, Cincinnati\, OH\, 45215
ATTACH;FMTTYPE=image/jpeg:https://www.cincyclassical.org/wp-content/uploads/2023/09/brass-musical-instrument-2022-11-08-08-46-10-utc-scaled.jpg
ORGANIZER;CN="Cincy Classical":MAILTO:front.office@cincyclassical.org
END:VEVENT
BEGIN:VEVENT
DTSTART;TZID=America/New_York:20240516T070500
DTEND;TZID=America/New_York:20240516T080000
DTSTAMP:20260424T181331
CREATED:20230921T183434Z
LAST-MODIFIED:20230921T183434Z
UID:16525-1715843100-1715846400@www.cincyclassical.org
SUMMARY:Brass Band Practice
DESCRIPTION:4th-7th Grades \nJames Yost
URL:https://www.cincyclassical.org/event/brass-band-practice/2024-05-16/
LOCATION:Cincy Classical\, 170 Siebenthaler Ave.\, Cincinnati\, OH\, 45215
ATTACH;FMTTYPE=image/jpeg:https://www.cincyclassical.org/wp-content/uploads/2023/09/brass-musical-instrument-2022-11-08-08-46-10-utc-scaled.jpg
ORGANIZER;CN="Cincy Classical":MAILTO:front.office@cincyclassical.org
END:VEVENT
BEGIN:VEVENT
DTSTART;TZID=America/New_York:20240514T070500
DTEND;TZID=America/New_York:20240514T080000
DTSTAMP:20260424T181331
CREATED:20230921T183434Z
LAST-MODIFIED:20230921T183434Z
UID:16524-1715670300-1715673600@www.cincyclassical.org
SUMMARY:Brass Band Practice
DESCRIPTION:4th-7th Grades \nJames Yost
URL:https://www.cincyclassical.org/event/brass-band-practice/2024-05-14/
LOCATION:Cincy Classical\, 170 Siebenthaler Ave.\, Cincinnati\, OH\, 45215
ATTACH;FMTTYPE=image/jpeg:https://www.cincyclassical.org/wp-content/uploads/2023/09/brass-musical-instrument-2022-11-08-08-46-10-utc-scaled.jpg
ORGANIZER;CN="Cincy Classical":MAILTO:front.office@cincyclassical.org
END:VEVENT
BEGIN:VEVENT
DTSTART;TZID=America/New_York:20240509T070500
DTEND;TZID=America/New_York:20240509T080000
DTSTAMP:20260424T181331
CREATED:20230921T183434Z
LAST-MODIFIED:20230921T183434Z
UID:16523-1715238300-1715241600@www.cincyclassical.org
SUMMARY:Brass Band Practice
DESCRIPTION:4th-7th Grades \nJames Yost
URL:https://www.cincyclassical.org/event/brass-band-practice/2024-05-09/
LOCATION:Cincy Classical\, 170 Siebenthaler Ave.\, Cincinnati\, OH\, 45215
ATTACH;FMTTYPE=image/jpeg:https://www.cincyclassical.org/wp-content/uploads/2023/09/brass-musical-instrument-2022-11-08-08-46-10-utc-scaled.jpg
ORGANIZER;CN="Cincy Classical":MAILTO:front.office@cincyclassical.org
END:VEVENT
BEGIN:VEVENT
DTSTART;TZID=America/New_York:20240507T070500
DTEND;TZID=America/New_York:20240507T080000
DTSTAMP:20260424T181331
CREATED:20230921T183434Z
LAST-MODIFIED:20230921T183434Z
UID:16522-1715065500-1715068800@www.cincyclassical.org
SUMMARY:Brass Band Practice
DESCRIPTION:4th-7th Grades \nJames Yost
URL:https://www.cincyclassical.org/event/brass-band-practice/2024-05-07/
LOCATION:Cincy Classical\, 170 Siebenthaler Ave.\, Cincinnati\, OH\, 45215
ATTACH;FMTTYPE=image/jpeg:https://www.cincyclassical.org/wp-content/uploads/2023/09/brass-musical-instrument-2022-11-08-08-46-10-utc-scaled.jpg
ORGANIZER;CN="Cincy Classical":MAILTO:front.office@cincyclassical.org
END:VEVENT
BEGIN:VEVENT
DTSTART;TZID=America/New_York:20240502T070500
DTEND;TZID=America/New_York:20240502T080000
DTSTAMP:20260424T181331
CREATED:20230921T183434Z
LAST-MODIFIED:20230921T183434Z
UID:16521-1714633500-1714636800@www.cincyclassical.org
SUMMARY:Brass Band Practice
DESCRIPTION:4th-7th Grades \nJames Yost
URL:https://www.cincyclassical.org/event/brass-band-practice/2024-05-02/
LOCATION:Cincy Classical\, 170 Siebenthaler Ave.\, Cincinnati\, OH\, 45215
ATTACH;FMTTYPE=image/jpeg:https://www.cincyclassical.org/wp-content/uploads/2023/09/brass-musical-instrument-2022-11-08-08-46-10-utc-scaled.jpg
ORGANIZER;CN="Cincy Classical":MAILTO:front.office@cincyclassical.org
END:VEVENT
BEGIN:VEVENT
DTSTART;TZID=America/New_York:20240430T070500
DTEND;TZID=America/New_York:20240430T080000
DTSTAMP:20260424T181331
CREATED:20230921T183434Z
LAST-MODIFIED:20230921T183434Z
UID:16520-1714460700-1714464000@www.cincyclassical.org
SUMMARY:Brass Band Practice
DESCRIPTION:4th-7th Grades \nJames Yost
URL:https://www.cincyclassical.org/event/brass-band-practice/2024-04-30/
LOCATION:Cincy Classical\, 170 Siebenthaler Ave.\, Cincinnati\, OH\, 45215
ATTACH;FMTTYPE=image/jpeg:https://www.cincyclassical.org/wp-content/uploads/2023/09/brass-musical-instrument-2022-11-08-08-46-10-utc-scaled.jpg
ORGANIZER;CN="Cincy Classical":MAILTO:front.office@cincyclassical.org
END:VEVENT
BEGIN:VEVENT
DTSTART;TZID=America/New_York:20240425T070500
DTEND;TZID=America/New_York:20240425T080000
DTSTAMP:20260424T181331
CREATED:20230921T183434Z
LAST-MODIFIED:20230921T183434Z
UID:16519-1714028700-1714032000@www.cincyclassical.org
SUMMARY:Brass Band Practice
DESCRIPTION:4th-7th Grades \nJames Yost
URL:https://www.cincyclassical.org/event/brass-band-practice/2024-04-25/
LOCATION:Cincy Classical\, 170 Siebenthaler Ave.\, Cincinnati\, OH\, 45215
ATTACH;FMTTYPE=image/jpeg:https://www.cincyclassical.org/wp-content/uploads/2023/09/brass-musical-instrument-2022-11-08-08-46-10-utc-scaled.jpg
ORGANIZER;CN="Cincy Classical":MAILTO:front.office@cincyclassical.org
END:VEVENT
BEGIN:VEVENT
DTSTART;TZID=America/New_York:20231010T070500
DTEND;TZID=America/New_York:20231010T080000
DTSTAMP:20260424T181331
CREATED:20230921T183434Z
LAST-MODIFIED:20231114T221413Z
UID:15296-1696921500-1696924800@www.cincyclassical.org
SUMMARY:Brass Band Practice
DESCRIPTION:4th-7th Grades \nJames Yost
URL:https://www.cincyclassical.org/event/brass-band-practice/2023-10-10/
LOCATION:Cincy Classical\, 170 Siebenthaler Ave.\, Cincinnati\, OH\, 45215
ATTACH;FMTTYPE=image/jpeg:https://www.cincyclassical.org/wp-content/uploads/2023/09/brass-musical-instrument-2022-11-08-08-46-10-utc-scaled.jpg
ORGANIZER;CN="Cincy Classical":MAILTO:front.office@cincyclassical.org
END:VEVENT
END:VCALENDAR